BEGIN:VCALENDAR
VERSION:2.0
PRODID:-//kulturring-leiferde.de - ECPv4.9.5//NONSGML v1.0//EN
CALSCALE:GREGORIAN
METHOD:PUBLISH
X-WR-CALNAME:kulturring-leiferde.de
X-ORIGINAL-URL:https://kulturring-leiferde.de
X-WR-CALDESC:Veranstaltungen im kulturring-leiferde.de
BEGIN:VTIMEZONE
TZID:"Europe/Berlin"
BEGIN:DAYLIGHT
TZOFFSETFROM:+0100
TZOFFSETTO:+0200
TZNAME:CEST
DTSTART:20230326T010000
END:DAYLIGHT
BEGIN:STANDARD
TZOFFSETFROM:+0200
TZOFFSETTO:+0100
TZNAME:CET
DTSTART:20231029T010000
END:STANDARD
END:VTIMEZONE
BEGIN:VEVENT
DTSTART;VALUE=DATE:20231201
DTEND;VALUE=DATE:20231225
DTSTAMP:20260425T120100
CREATED:20230407T110018Z
LAST-MODIFIED:20231109T224949Z
UID:3240-1701388800-1703462399@kulturring-leiferde.de
SUMMARY:Lebendiger Adventskalender
DESCRIPTION:Vorweihnachtszeit in Leiferde\nZusammenkommen\, sich kennenlernen\, sich wiedersehen\, Klönen\, Geschichten erzählen\, Singen\, Musizieren!? \nEinfach zwanglos gemeinsam Zeit verbringen! \nHeute hier und morgen dort (jeweils 18-19 Uhr) . \nDas ist der Lebendige Adventskalender in Leiferde!\n \n  \nWir freuen uns auf Alle\, die im Dezember 2023 dabei sein möchten. \nDas Orgateam \n
URL:https://kulturring-leiferde.de/veranstaltung/lebendiger-adventskalender-in-leiferde-2023/
CATEGORIES:Lebendiger Adventskalender
ATTACH;FMTTYPE=image/jpeg:https://kulturring-leiferde.de/wp-content/uploads/2023/11/Bild4.jpg
END:VEVENT
END:VCALENDAR