BEGIN:VCALENDAR
VERSION:2.0
PRODID:-//kulturring-leiferde.de - ECPv4.9.5//NONSGML v1.0//EN
CALSCALE:GREGORIAN
METHOD:PUBLISH
X-WR-CALNAME:kulturring-leiferde.de
X-ORIGINAL-URL:https://kulturring-leiferde.de
X-WR-CALDESC:Veranstaltungen im kulturring-leiferde.de
BEGIN:VTIMEZONE
TZID:"Europe/Berlin"
BEGIN:DAYLIGHT
TZOFFSETFROM:+0100
TZOFFSETTO:+0200
TZNAME:CEST
DTSTART:20220327T010000
END:DAYLIGHT
BEGIN:STANDARD
TZOFFSETFROM:+0200
TZOFFSETTO:+0100
TZNAME:CET
DTSTART:20221030T010000
END:STANDARD
END:VTIMEZONE
BEGIN:VEVENT
DTSTART;TZID="Europe/Berlin":20221009T163000
DTEND;TZID="Europe/Berlin":20221009T163000
DTSTAMP:20260425T133741
CREATED:20201209T164157Z
LAST-MODIFIED:20220901T085939Z
UID:1973-1665333000-1665333000@kulturring-leiferde.de
SUMMARY:Kürbisschnitzen
DESCRIPTION:Familie aktiv\nDer Herbst ist Kürbiszeit und aus vielen dieser gewaltigen Gartenfrüchte lassen sich tolle Figuren herstellen. \nWir wollen in einer Familien-Aktion am Sonntag Nachmittag auf der Terasse des Tennisheimes Leiferde gemeinsam Kürbisse aushöhlen und unheimliche und schöne Leuchten entstehen lassen. \nKalte Hände können anschließend am Lagerfeuer beim Stockbrotbacken gewärmt werden. \nMitzubringen:\n– Wachsmaler zum Vorzeichnen des Musters\,\n– Töpferwerkzeug oder ein größer Löffel zum Aushöhlen\,\n– ein schmales Messer oder eine Kürbissäge zum Schnitzen der Muster\, \nWir werden ein kleines Kürbisangebot vorbereiten\, jedoch können auch eigene Kürbisse mitgebracht werden. \nMit dem Erwerb einer Kürbiskarte für 7\,- € kann ein Kürbis im Vorverkauf reserviert werden. \nKarten im VVK  bei Manus Schreiben & Schenken in Leiferde \nTageskasse\nTeilnehmer-Gebühren: 3\,-  € \nVorverkauf:\nKürbiskarte inkl. Teilnehmer-Gebühr: 7\,- € \n  \n
URL:https://kulturring-leiferde.de/veranstaltung/kuerbisschnitzen/
LOCATION:Tennisplatz Leiferde\, Gilder Weg 64\, Tennisplatz Leiferde\, Leiferde\, 38542\, Deutschland
CATEGORIES:Kinder
ATTACH;FMTTYPE=image/jpeg:https://kulturring-leiferde.de/wp-content/uploads/2020/12/10_1Kürbis.jpg
END:VEVENT
END:VCALENDAR