BEGIN:VCALENDAR
VERSION:2.0
PRODID:-//kulturring-leiferde.de - ECPv4.9.5//NONSGML v1.0//EN
CALSCALE:GREGORIAN
METHOD:PUBLISH
X-WR-CALNAME:kulturring-leiferde.de
X-ORIGINAL-URL:https://kulturring-leiferde.de
X-WR-CALDESC:Veranstaltungen im kulturring-leiferde.de
BEGIN:VTIMEZONE
TZID:"Europe/Berlin"
BEGIN:DAYLIGHT
TZOFFSETFROM:+0100
TZOFFSETTO:+0200
TZNAME:CEST
DTSTART:20240331T010000
END:DAYLIGHT
BEGIN:STANDARD
TZOFFSETFROM:+0200
TZOFFSETTO:+0100
TZNAME:CET
DTSTART:20241027T010000
END:STANDARD
END:VTIMEZONE
BEGIN:VEVENT
DTSTART;TZID="Europe/Berlin":20241027T153000
DTEND;TZID="Europe/Berlin":20241027T153000
DTSTAMP:20260425T103816
CREATED:20240126T124432Z
LAST-MODIFIED:20240905T114328Z
UID:3821-1730043000-1730043000@kulturring-leiferde.de
SUMMARY:Kürbisschnitzen
DESCRIPTION:Familie aktiv: Kürbisschnitzen am Sonntag-Nachmittag\nDer Herbst ist Kürbiszeit\, und aus vielen dieser gewaltigen Gartenfrüchte lassen sich tolle Figuren herstellen.\nWir wollen in einer Familien-Aktion am Sonntag Nachmittag auf der idyllisch gelegenen Tennisanlage gemeinsam Kürbisse aushöhlen und unheimliche und schöne Leuchten entstehen lassen. Am Lagerfeuer gibt’s Stockbrot. \nMitzubringen:\nWachsmaler zum Vorzeichnen des Musters\, Töpferwerkzeug oder ein großer Metalllöffel zum Aushöhlen\, ein schmales Messer oder eine Kürbissäge zum Schnitzen der Muster. Wir werden ein kleines Kürbisangebot vorbereiten\, jedoch können auch eigene Kürbisse mitgebracht werden. \nIn diesem Jahr kein Vorverkauf. \nDer Eintritt ist frei\,\nmit dem Erwerb einer Kürbiskarte für 6\,00 € kann ein Kürbis erworben  werden.\n\n \n
URL:https://kulturring-leiferde.de/veranstaltung/kuerbis-schnitzen-am-sonntagnachmittag/
LOCATION:Tennisplatz Leiferde\, Gilder Weg 64\, Tennisplatz Leiferde\, Leiferde\, 38542\, Deutschland
CATEGORIES:Kinder
ATTACH;FMTTYPE=image/jpeg:https://kulturring-leiferde.de/wp-content/uploads/2023/01/Kürbisschnitzen.jpg
END:VEVENT
END:VCALENDAR