BEGIN:VCALENDAR
VERSION:2.0
PRODID:-//kulturring-leiferde.de - ECPv4.9.5//NONSGML v1.0//EN
CALSCALE:GREGORIAN
METHOD:PUBLISH
X-WR-CALNAME:kulturring-leiferde.de
X-ORIGINAL-URL:https://kulturring-leiferde.de
X-WR-CALDESC:Veranstaltungen im kulturring-leiferde.de
BEGIN:VTIMEZONE
TZID:"Europe/Berlin"
BEGIN:DAYLIGHT
TZOFFSETFROM:+0100
TZOFFSETTO:+0200
TZNAME:CEST
DTSTART:20230326T010000
END:DAYLIGHT
BEGIN:STANDARD
TZOFFSETFROM:+0200
TZOFFSETTO:+0100
TZNAME:CET
DTSTART:20231029T010000
END:STANDARD
END:VTIMEZONE
BEGIN:VEVENT
DTSTART;TZID="Europe/Berlin":20231105T160000
DTEND;TZID="Europe/Berlin":20231105T160000
DTSTAMP:20260425T121214
CREATED:20230119T215929Z
LAST-MODIFIED:20230121T215519Z
UID:3088-1699200000-1699200000@kulturring-leiferde.de
SUMMARY:Genius\, Schalck und Narretey
DESCRIPTION:Barock- Ensemble „Ciaconna“ spielt auf historischen Instrumenten\nVom Wahnsinn und anderen Gemütszuständen handelt das aktuelle Konzertprogramm der drei jungen Musikerinnen Katrin Heidenreich (Travers- und Blockflöte)\, Negin Habibi (Barockgitarre) und Charlotte Kiefer (Barockcello). \nIn kaum einer anderen Epoche wurden Narrheit und Irrsinn so anschaulich dargestellt\, wie in der Zeit des Früh- und Hochbarock. \nMit Werken von Castello\, Vivaldi und Bach\, in denen Verrücktheit\, Witz und Humor meisterhaft vertont sind\, zeigt das Ensemble Ciaconna\, wie dicht Genie und Wahnsinn schon immer bei einander lagen. Auch einer der berühmtesten Narren der Geschichte\, Don Quijote de la Mancha\, steckt seine Nase kurz durch die Tür und berichtet von seinen Tollheiten. \nFreuen Sie sich auf ein hochklassiges\, virtuoses und höchst unterhaltsames Konzert ! \n  \nEintrittpreise:\nJunge Menschen bis 18 J.:  € 5\,-  (Vorverkauf) / € 6\,- (Tageskasse)\nErwachsene:  € 10\,- (Vorverkauf) / € 12\,- (Tageskasse) \n
URL:https://kulturring-leiferde.de/veranstaltung/genius-schalck-und-narretey/
LOCATION:St. Viti Kirche zu Leiferde\, Im Paul 2\, Leiferde\, 38542
CATEGORIES:Konzert
ATTACH;FMTTYPE=image/jpeg:https://kulturring-leiferde.de/wp-content/uploads/2023/01/EnsembleCiaconna-Fotograf.jpg
END:VEVENT
END:VCALENDAR