BEGIN:VCALENDAR
VERSION:2.0
PRODID:-//kulturring-leiferde.de - ECPv4.9.5//NONSGML v1.0//EN
CALSCALE:GREGORIAN
METHOD:PUBLISH
X-WR-CALNAME:kulturring-leiferde.de
X-ORIGINAL-URL:https://kulturring-leiferde.de
X-WR-CALDESC:Veranstaltungen im kulturring-leiferde.de
BEGIN:VTIMEZONE
TZID:"Europe/Berlin"
BEGIN:DAYLIGHT
TZOFFSETFROM:+0100
TZOFFSETTO:+0200
TZNAME:CEST
DTSTART:20230326T010000
END:DAYLIGHT
BEGIN:STANDARD
TZOFFSETFROM:+0200
TZOFFSETTO:+0100
TZNAME:CET
DTSTART:20231029T010000
END:STANDARD
END:VTIMEZONE
BEGIN:VEVENT
DTSTART;TZID="Europe/Berlin":20230831T100000
DTEND;TZID="Europe/Berlin":20230831T160000
DTSTAMP:20260424T162810
CREATED:20230713T162115Z
LAST-MODIFIED:20230716T142927Z
UID:3326-1693476000-1693497600@kulturring-leiferde.de
SUMMARY:Kulturring unterwegs - Architekturspaziergang in Wolfsburg
DESCRIPTION:Berühmte moderne Gebäude von Alvar Aalto\, Zaha Hadid und Hans Scharoun\nWarum in die Ferne schweifen\, wenn das Gute liegt so nah? Das 85 Jahre junge Wolfsburg kann mit außergewöhnlichen\, zeitgemäßen Gebäuden von mutigen Planern aufwarten. \nAuf diese Besonderheiten in unserer unmittelbaren Nachbarschaft wollen wir den Blick richten. \nDie sachkundige\, allgemeinverständliche Führung durch eine Architektin beginnt um 11 Uhr am Phaeno (Zaha Hadid) und dauert 2\,5 Stunden. \nWeitere architektonische Highlights entlang der Porschestraße wie das Alvar-Aalto-Kulturhaus und das Scharoun-Theater werden erläutert.\nEs gibt verschiedene Möglichkeiten für einen Imbiss auf eigene Kosten in der Innenstadt \nWir werden maximal 20 Personen sein und wollen gemeinsam mit dem Zug fahren (ab Leiferde 10.21 Uhr\, ab Wolfsburg 15.14). \nWeitere Informationen: www.wolfsburg.de/leben/architektur/architekturfuehrungen \n  \nKosten: 16 € p.P. (Fahrtkosten + Teilnahmegebühr) \nAnmeldung bitte bis zum 17.08.2023 bevorzugt per Mail an info@kulturring-leiferde.de oder unter Tel. 05373/1301 sowie Überweisung des o.g. Betrages auf das Konto des Kulturrings Leiferde mit der\nIBAN DE77 2579 1635 3610 0080 00\, Verwendungszweck „Wolfsburg“. \n
URL:https://kulturring-leiferde.de/veranstaltung/3326/
CATEGORIES:Reisen und Exkursionen
ATTACH;FMTTYPE=image/png:https://kulturring-leiferde.de/wp-content/uploads/2023/07/Architekturführung.png
END:VEVENT
END:VCALENDAR