BEGIN:VCALENDAR
VERSION:2.0
PRODID:-//kulturring-leiferde.de - ECPv4.9.5//NONSGML v1.0//EN
CALSCALE:GREGORIAN
METHOD:PUBLISH
X-WR-CALNAME:kulturring-leiferde.de
X-ORIGINAL-URL:https://kulturring-leiferde.de
X-WR-CALDESC:Veranstaltungen im kulturring-leiferde.de
BEGIN:VTIMEZONE
TZID:"Europe/Berlin"
BEGIN:DAYLIGHT
TZOFFSETFROM:+0100
TZOFFSETTO:+0200
TZNAME:CEST
DTSTART:20220327T010000
END:DAYLIGHT
BEGIN:STANDARD
TZOFFSETFROM:+0200
TZOFFSETTO:+0100
TZNAME:CET
DTSTART:20221030T010000
END:STANDARD
END:VTIMEZONE
BEGIN:VEVENT
DTSTART;TZID="Europe/Berlin":20220630T070000
DTEND;TZID="Europe/Berlin":20220630T220000
DTSTAMP:20260421T081414
CREATED:20220507T155614Z
LAST-MODIFIED:20220507T161017Z
UID:2561-1656572400-1656626400@kulturring-leiferde.de
SUMMARY:Deutscher Bundestag - Tagesreise
DESCRIPTION:Der Kulturring Leiferde e.V. und der Seniorenbeirat der Samtgemeinde Meinersen fahren am 30.06.2022 zum Bundestag nach Berlin.\nNach langer Corona-Pause empfängt der Besucherdienst des Bundestags wieder Gäste. Somit kann die für 2020 geplante Reise nun stattfinden.\nEntgegen der damaligen Planung und aus Kostengründen haben wir uns als Transportmittel diesmal die Bahn ausgesucht. \nDie Reise beginnt am oben genannten Datum um 07:16 Uhr am Bahnhof Meinersen in Ohof. In Leiferde kann auch zugestiegen werden. Umsteigen muss die Gruppe nur einmal in Wolfsburg.\nAnkunft in Berlin Hauptbahnhof ist 09:27 Uhr. \nFür 19:46 Uhr ist die Rückfahrt geplant. Die Ankunftszeit ist 21:41 Uhr in Meinersen. Etwa 5 Minuten früher hält der Enno in Leiferde. \nVoraussichtliches Programm: \nBis 14:15 Uhr     zur freien Verfügung\n14:15 Uhr           Treffen vor dem Paul-Löbe-Haus\n15:00 Uhr           Informationsgespräch mit MdB Hubertus Heil oder einem Mitarbeiter\n16:30 Uhr           Imbiss im Besucherrestaurant\, Paul-Löbe-Haus\n17:15 Uhr           Treffen vorm Reichstagsgebäude\n18:00 Uhr           Informationsvortrag beim Deutschen Bundestag \nDie Kosten für die Fahrt betragen 35\,- €. \nAnmeldungen bitte bis zum 06.05.2022 an: Horst Werner Hüfler\, huefler@web.de oder mobil auch als WhatsApp: 01573 2234741. \n  \nEinige Plätze sind noch frei. Wir freuen uns über Ihre Teilnahme. \nWichtiger Hinweis: Jeder Besucher muss einen gültigen Lichtbildausweis bei sich tragen. \n
URL:https://kulturring-leiferde.de/veranstaltung/2561/
LOCATION:Berlin Bundestag\, Platz der Republik 1\, Berlin\, 11011\, Deutschland
CATEGORIES:Reisen und Exkursionen
ATTACH;FMTTYPE=image/jpeg:https://kulturring-leiferde.de/wp-content/uploads/2020/02/westportal02.jpg
END:VEVENT
END:VCALENDAR